BEGIN:VCALENDAR
VERSION:2.0
PRODID:SchoolNow
CALSCALE:GREGORIAN
BEGIN:VEVENT
UID:51861c14-27ab-11f1-9e0c-0a58a9feac02
DTSTAMP:20260420T084050Z
SUMMARY:Third Grade Field Trip
LOCATION:Peggy Notebaert Nature Museum\, 2430 N Cannon Dr\, Chicago\, IL 60
 614\, USA
URL;VALUE=URI:https://www.komarek94.org/calendar/8942308/third-grade-field-
 trip
DTSTART;VALUE=DATE:20260421
DTEND;VALUE=DATE:20260422
END:VEVENT
END:VCALENDAR
